BEGIN:VCALENDAR
VERSION:2.0
PRODID:-//Godly Play Scotland - ECPv6.15.20//NONSGML v1.0//EN
CALSCALE:GREGORIAN
METHOD:PUBLISH
X-ORIGINAL-URL:https://www.godlyplayscotland.co.uk
X-WR-CALDESC:Events for Godly Play Scotland
REFRESH-INTERVAL;VALUE=DURATION:PT1H
X-Robots-Tag:noindex
X-PUBLISHED-TTL:PT1H
BEGIN:VTIMEZONE
TZID:Europe/London
BEGIN:DAYLIGHT
TZOFFSETFROM:+0000
TZOFFSETTO:+0100
TZNAME:BST
DTSTART:20220327T010000
END:DAYLIGHT
BEGIN:STANDARD
TZOFFSETFROM:+0100
TZOFFSETTO:+0000
TZNAME:GMT
DTSTART:20221030T010000
END:STANDARD
BEGIN:DAYLIGHT
TZOFFSETFROM:+0000
TZOFFSETTO:+0100
TZNAME:BST
DTSTART:20230326T010000
END:DAYLIGHT
BEGIN:STANDARD
TZOFFSETFROM:+0100
TZOFFSETTO:+0000
TZNAME:GMT
DTSTART:20231029T010000
END:STANDARD
BEGIN:DAYLIGHT
TZOFFSETFROM:+0000
TZOFFSETTO:+0100
TZNAME:BST
DTSTART:20240331T010000
END:DAYLIGHT
BEGIN:STANDARD
TZOFFSETFROM:+0100
TZOFFSETTO:+0000
TZNAME:GMT
DTSTART:20241027T010000
END:STANDARD
END:VTIMEZONE
BEGIN:VEVENT
DTSTART;TZID=Europe/London:20231206T193000
DTEND;TZID=Europe/London:20231206T210000
DTSTAMP:20260420T201613
CREATED:20231114T224819Z
LAST-MODIFIED:20231114T224819Z
UID:10000227-1701891000-1701896400@www.godlyplayscotland.co.uk
SUMMARY:Godly Play Circle - Online
DESCRIPTION:Join us for a story\, some wondering and some Godly Play chat … from the comfort of your own home. \nWe know that it’s just not possible for everyone to get to Circles in Edinburgh\, Inverness or St Andrew’s\, so this is a chance to hear and wonder about The Story of Eric Liddell. \nYou just have to bring your own cake … and something to drink … \nYes\, I’d like to come along …
URL:https://www.godlyplayscotland.co.uk/event/godly-play-circle-online/
LOCATION:Zoom
CATEGORIES:Circle,Network Meetings
ATTACH;FMTTYPE=image/jpeg:https://www.godlyplayscotland.co.uk/wp-content/uploads/2023/11/IMG_0632-1.jpeg
ORGANIZER;CN="Alex Mackenzie":MAILTO:alex@godlyplayscotland.co.uk
END:VEVENT
END:VCALENDAR