BEGIN:VCALENDAR
VERSION:2.0
PRODID:-//Godly Play Scotland - ECPv6.15.20//NONSGML v1.0//EN
CALSCALE:GREGORIAN
METHOD:PUBLISH
X-WR-CALNAME:Godly Play Scotland
X-ORIGINAL-URL:https://www.godlyplayscotland.co.uk
X-WR-CALDESC:Events for Godly Play Scotland
REFRESH-INTERVAL;VALUE=DURATION:PT1H
X-Robots-Tag:noindex
X-PUBLISHED-TTL:PT1H
BEGIN:VTIMEZONE
TZID:Europe/London
BEGIN:DAYLIGHT
TZOFFSETFROM:+0000
TZOFFSETTO:+0100
TZNAME:BST
DTSTART:20220327T010000
END:DAYLIGHT
BEGIN:STANDARD
TZOFFSETFROM:+0100
TZOFFSETTO:+0000
TZNAME:GMT
DTSTART:20221030T010000
END:STANDARD
BEGIN:DAYLIGHT
TZOFFSETFROM:+0000
TZOFFSETTO:+0100
TZNAME:BST
DTSTART:20230326T010000
END:DAYLIGHT
BEGIN:STANDARD
TZOFFSETFROM:+0100
TZOFFSETTO:+0000
TZNAME:GMT
DTSTART:20231029T010000
END:STANDARD
BEGIN:DAYLIGHT
TZOFFSETFROM:+0000
TZOFFSETTO:+0100
TZNAME:BST
DTSTART:20240331T010000
END:DAYLIGHT
BEGIN:STANDARD
TZOFFSETFROM:+0100
TZOFFSETTO:+0000
TZNAME:GMT
DTSTART:20241027T010000
END:STANDARD
END:VTIMEZONE
BEGIN:VEVENT
DTSTART;TZID=Europe/London:20231125T100000
DTEND;TZID=Europe/London:20231125T120000
DTSTAMP:20260420T213820
CREATED:20231114T212655Z
LAST-MODIFIED:20231114T212655Z
UID:10000224-1700906400-1700913600@www.godlyplayscotland.co.uk
SUMMARY:Circle - Edinburgh - 25th November
DESCRIPTION:Coffee\, cake\, Godly Play chat and a story to hear and wonder about – the best way to spend a Saturday morning! \nThe story at this circle will be The Story of Eric Liddell. \nEveryone is welcome. There is no need to book and there is no charge. \n 
URL:https://www.godlyplayscotland.co.uk/event/circle-edinburgh-25th-november/
LOCATION:Godly Play Scotland\, Duddingston Kirk Manse\, Old Church Lane\, Edinburgh\, EH15 3PX\, United Kingdom
CATEGORIES:Circle
ATTACH;FMTTYPE=image/jpeg:https://www.godlyplayscotland.co.uk/wp-content/uploads/2023/11/IMG_0632-1.jpeg
ORGANIZER;CN="Alex Mackenzie":MAILTO:alex@godlyplayscotland.co.uk
GEO:55.9411916;-3.1490925
X-APPLE-STRUCTURED-LOCATION;VALUE=URI;X-ADDRESS=Godly Play Scotland Duddingston Kirk Manse Old Church Lane Edinburgh EH15 3PX United Kingdom;X-APPLE-RADIUS=500;X-TITLE=Duddingston Kirk Manse\, Old Church Lane:geo:-3.1490925,55.9411916
END:VEVENT
END:VCALENDAR